BEGIN:VCALENDAR
VERSION:2.0
PRODID:-//Prodi Seni Pertunjukan - ECPv6.15.20//NONSGML v1.0//EN
CALSCALE:GREGORIAN
METHOD:PUBLISH
X-WR-CALNAME:Prodi Seni Pertunjukan
X-ORIGINAL-URL:https://senipertunjukan.sendratasikfbsunimed.com
X-WR-CALDESC:Events for Prodi Seni Pertunjukan
REFRESH-INTERVAL;VALUE=DURATION:PT1H
X-Robots-Tag:noindex
X-PUBLISHED-TTL:PT1H
BEGIN:VTIMEZONE
TZID:UTC
BEGIN:STANDARD
TZOFFSETFROM:+0000
TZOFFSETTO:+0000
TZNAME:UTC
DTSTART:20250101T000000
END:STANDARD
END:VTIMEZONE
BEGIN:VEVENT
DTSTART;TZID=UTC:20260421T200000
DTEND;TZID=UTC:20260421T220000
DTSTAMP:20260421T131741
CREATED:20260416T085015Z
LAST-MODIFIED:20260416T121712Z
UID:651-1776801600-1776808800@senipertunjukan.sendratasikfbsunimed.com
SUMMARY:Tugas Akhir Pemeranan "Janji Senja"
DESCRIPTION:Jangan lupa datang dan saksikan tugas akhir Pemeranan Janji Senja dengan mahasiswa teruji “Lamtio Manullang”
URL:https://senipertunjukan.sendratasikfbsunimed.com/event/tugas-akhir-pemeranan-janji-senja/
LOCATION:Panggung Utama Taman Budaya\, Jln. Perintis Kemerdekaan\, Medan\, Indonesia
END:VEVENT
END:VCALENDAR